BEGIN:VCALENDAR
VERSION:2.0
PRODID:EVENTFROG//EVENT//ICAL
BEGIN:VEVENT
UID:20260423T121756Z-7452819114114951502@eventfrog.at
DTSTAMP:20260423T121756Z
DTSTART:20260925T160000Z
DTEND:20260925T200000Z
SUMMARY:Ü60 PARTY – LEGENDEN UNTER SICH - Fr., 25.09.2026  18:00
DESCRIPTION:Am 25.9. lädt der Viertel Club Basel zur Ü60 Party mit Hits der 60er-80er und DJ ab 18 Uhr zum Feiern und Tanzen ein.\n\nhttps://eventfrog.at/de/p/partys/70-s/ue60-party-legenden-unter-sich-fr-25-09-2026-18-00-7452819114114951502.html
LOCATION:Viertel Klub
GEO:47.539889;7.606705
URL:https://eventfrog.at/de/p/partys/70-s/ue60-party-legenden-unter-sich-fr-25-09-2026-18-00-7452819114114951502.html
END:VEVENT
END:VCALENDAR