BEGIN:VCALENDAR
VERSION:2.0
PRODID:EVENTFROG//EVENT//ICAL
BEGIN:VEVENT
UID:20260423T104459Z-7452655973968182838@eventfrog.at
DTSTAMP:20260423T104459Z
DTSTART:20260503T160000Z
SUMMARY:FASZINATION ORGEL - Sonata Celtica
DESCRIPTION:Irland zu Gast im Basler Münster: Der irische Meisterorganist Prof. David Adams (Dublin) spielt Werke von Bach (Prael. & Fuga C-dur) , Liszt, Franck, Stanford (Sonata Celtica) und Donnacha Dennehey\n\nhttps://eventfrog.at/de/p/konzerte/kirchenmusik/faszination-orgel-sonata-celtica-7452655973968182838.html
LOCATION:Basler Münster
GEO:47.556386;7.592231
URL:https://eventfrog.at/de/p/konzerte/kirchenmusik/faszination-orgel-sonata-celtica-7452655973968182838.html
END:VEVENT
END:VCALENDAR