BEGIN:VCALENDAR
VERSION:2.0
PRODID:EVENTFROG//EVENT//ICAL
BEGIN:VEVENT
UID:20260422T013156Z-7452468969934483749@eventfrog.at
DTSTAMP:20260422T013156Z
DTSTART:20260529T210000Z
DTEND:20260530T023000Z
SUMMARY:BESO
DESCRIPTION:BESO bringt dir die besten Friday Night Vibes ins LE CIEL Bern – Hip-Hop, RnB & Latin Sounds in exklusiver Club-Atmosphäre.\n\nhttps://eventfrog.at/de/p/partys/hip-hop-rap/beso-7452468969934483749.html
LOCATION:Le Ciel Club
GEO:46.951425;7.441316
URL:https://eventfrog.at/de/p/partys/hip-hop-rap/beso-7452468969934483749.html
END:VEVENT
END:VCALENDAR