BEGIN:VCALENDAR
VERSION:2.0
PRODID:EVENTFROG//EVENT//ICAL
BEGIN:VEVENT
UID:20260422T013217Z-7452431588871143066@eventfrog.at
DTSTAMP:20260422T013217Z
DTSTART:20260502T210000Z
DTEND:20260503T030000Z
SUMMARY:KELLERKIND
DESCRIPTION:Kellerkind\n\nhttps://eventfrog.at/de/p/partys/house-techno/kellerkind-7452431588871143066.html
LOCATION:Le Portier Club
GEO:46.949551;7.442535
URL:https://eventfrog.at/de/p/partys/house-techno/kellerkind-7452431588871143066.html
END:VEVENT
END:VCALENDAR