BEGIN:VCALENDAR
VERSION:2.0
PRODID:EVENTFROG//EVENT//ICAL
BEGIN:VEVENT
UID:20260422T013217Z-7452422156506423216@eventfrog.at
DTSTAMP:20260422T013217Z
DTSTART:20260611T173000Z
DTEND:20260611T190000Z
SUMMARY:KÖNIGSKLASSE DER KAMMERMUSIK
DESCRIPTION:Das Soundeum Chamber Ensemble präsentiert zu Saisonabschluss Schuberts und Widmanns Oktette, Meisterwerke der Kammermusik.\n\nhttps://eventfrog.at/de/p/klassik-opern/klassik/koenigsklasse-der-kammermusik-7452422156506423216.html
LOCATION:Yehudi Menuhin Forum Bern
GEO:46.943891;7.447856
URL:https://eventfrog.at/de/p/klassik-opern/klassik/koenigsklasse-der-kammermusik-7452422156506423216.html
END:VEVENT
END:VCALENDAR