BEGIN:VCALENDAR
VERSION:2.0
PRODID:EVENTFROG//EVENT//ICAL
BEGIN:VEVENT
UID:20260422T023708Z-7452336298101065074@eventfrog.at
DTSTAMP:20260422T023708Z
DTSTART:20260616T181500Z
SUMMARY:PERFECT MATCHES - RomCom im Kino statt Fussball im TV
DESCRIPTION:An 18 WM-Abenden bringen wir romantische Kultfilme zurück ins Kino.\n\nhttps://eventfrog.at/de/p/freizeit-ausfluege/film-kino/perfect-matches-romcom-im-kino-statt-fussball-im-tv-7452336298101065074.html
LOCATION:Kino CineClub (Vineyard Bern)
GEO:46.947097;7.434988
URL:https://eventfrog.at/de/p/freizeit-ausfluege/film-kino/perfect-matches-romcom-im-kino-statt-fussball-im-tv-7452336298101065074.html
END:VEVENT
END:VCALENDAR