BEGIN:VCALENDAR
VERSION:2.0
PRODID:EVENTFROG//EVENT//ICAL
BEGIN:VEVENT
UID:20260422T022900Z-7452328885843134180@eventfrog.at
DTSTAMP:20260422T022900Z
DTSTART:20260725T153000Z
DTEND:20260725T173000Z
SUMMARY:Chräueli Eggä
DESCRIPTION:Kreiere dein eigenes Schmuckstück in gemütlicher Atmosphäre – ob für dich selbst oder als liebevolles Geschenk.\n\nhttps://eventfrog.at/de/p/freizeit-ausfluege/sonstige-veranstaltungen/chraeueli-eggae-7452328885843134180.html
LOCATION:Riverside Thun
GEO:46.753992;7.636725
URL:https://eventfrog.at/de/p/freizeit-ausfluege/sonstige-veranstaltungen/chraeueli-eggae-7452328885843134180.html
END:VEVENT
END:VCALENDAR