BEGIN:VCALENDAR
VERSION:2.0
PRODID:EVENTFROG//EVENT//ICAL
BEGIN:VEVENT
UID:20260422T022828Z-7452327764235912075@eventfrog.at
DTSTAMP:20260422T022828Z
DTSTART:20260715T120000Z
DTEND:20260715T140000Z
SUMMARY:Chräueli Eggä x LOEB
DESCRIPTION:Kreiere dein eigenes Schmuckstück in gemütlicher Atmosphäre – ob für dich selbst oder als liebevolles Geschenk.\n\nhttps://eventfrog.at/de/p/freizeit-ausfluege/sonstige-veranstaltungen/chraeueli-eggae-x-loeb-7452327764235912075.html
LOCATION:Loeb Warenhaus Bern
GEO:46.947624;7.441353
URL:https://eventfrog.at/de/p/freizeit-ausfluege/sonstige-veranstaltungen/chraeueli-eggae-x-loeb-7452327764235912075.html
END:VEVENT
END:VCALENDAR