BEGIN:VCALENDAR
VERSION:2.0
PRODID:EVENTFROG//EVENT//ICAL
BEGIN:VEVENT
UID:20260422T013226Z-7452315660837751345@eventfrog.at
DTSTAMP:20260422T013226Z
DTSTART:20260509T140000Z
DTEND:20260510T020000Z
SUMMARY:HEATFEST AT BOLLWÄRK
DESCRIPTION:Heatfest am 9. Mai spielt von 16 bis 4 Uhr Afrobeats, Amapiano, RnB und Hip-Hop im Bollwärk, Tag bis Nacht nonstop.\n\nhttps://eventfrog.at/de/p/partys/hip-hop-rap/heatfest-at-bollwaerk-7452315660837751345.html
LOCATION:Bollwärk
GEO:46.951684;7.441728
URL:https://eventfrog.at/de/p/partys/hip-hop-rap/heatfest-at-bollwaerk-7452315660837751345.html
END:VEVENT
END:VCALENDAR