BEGIN:VCALENDAR
VERSION:2.0
PRODID:EVENTFROG//EVENT//ICAL
BEGIN:VEVENT
UID:20260422T013219Z-7452300582340009286@eventfrog.at
DTSTAMP:20260422T013219Z
DTSTART:20260424T210000Z
DTEND:20260425T020000Z
SUMMARY:LA CAPITALE x MISS & MISTER SUISSE FRANCOPHONE
DESCRIPTION:La Capitale \n\nhttps://eventfrog.at/fr/p/soirees-fetes/hip-hop-rap/la-capitale-x-miss-mister-suisse-francophone-7452300582340009286.html
LOCATION:Karma Club
GEO:46.949648;7.441158
URL:https://eventfrog.at/fr/p/soirees-fetes/hip-hop-rap/la-capitale-x-miss-mister-suisse-francophone-7452300582340009286.html
END:VEVENT
END:VCALENDAR