BEGIN:VCALENDAR
VERSION:2.0
PRODID:EVENTFROG//EVENT//ICAL
BEGIN:VEVENT
UID:20260423T143642Z-7452294620564737873@eventfrog.at
DTSTAMP:20260423T143642Z
DTSTART:20260529T180000Z
DTEND:20260529T200000Z
SUMMARY:Live - Max Grün - Support Tobi Anders
DESCRIPTION:Von Folk bis Pop\n\nhttps://eventfrog.at/de/p/konzerte/folk/live-max-gruen-support-tobi-anders-7452294620564737873.html
LOCATION:Vista Bar
GEO:47.097556;9.068924
URL:https://eventfrog.at/de/p/konzerte/folk/live-max-gruen-support-tobi-anders-7452294620564737873.html
END:VEVENT
END:VCALENDAR