BEGIN:VCALENDAR
VERSION:2.0
PRODID:EVENTFROG//EVENT//ICAL
BEGIN:VEVENT
UID:20260422T033950Z-7452282337646140675@eventfrog.at
DTSTAMP:20260422T033950Z
DTSTART:20260423T150000Z
DTEND:20260423T170000Z
SUMMARY:Westhive Quiz Night
DESCRIPTION:Let's get quizzical! Tritt solo oder im Team an, beantworte spannende Fragen und geniesse Drinks & Food - gratis Eintritt.\n\nhttps://eventfrog.at/de/p/diverses/westhive-quiz-night-7452282337646140675.html
LOCATION:Westhive Zürich Hardturm
GEO:47.393093;8.511971
URL:https://eventfrog.at/de/p/diverses/westhive-quiz-night-7452282337646140675.html
END:VEVENT
END:VCALENDAR