BEGIN:VCALENDAR
VERSION:2.0
PRODID:EVENTFROG//EVENT//ICAL
BEGIN:VEVENT
UID:20260424T112526Z-7452282213456980727@eventfrog.at
DTSTAMP:20260424T112526Z
DTSTART:20260625T180000Z
DTEND:20260625T190000Z
SUMMARY:«Two-Way Mirror – with the shifting coating» – Juli Wang
DESCRIPTION:«Two-Way Mirror – mit wechselnder Beschichtung» ist eine Performance über Unterbrechung, Manipulation und Machtverschiebung.\n\nhttps://eventfrog.at/de/p/konzerte/weitere-musikrichtungen/two-way-mirror-with-the-shifting-coating-juli-wang-7452282213456980727.html
LOCATION:Gare du Nord – Bahnhof für Neue Musik
GEO:47.567389;7.607131
URL:https://eventfrog.at/de/p/konzerte/weitere-musikrichtungen/two-way-mirror-with-the-shifting-coating-juli-wang-7452282213456980727.html
END:VEVENT
END:VCALENDAR