BEGIN:VCALENDAR
VERSION:2.0
PRODID:EVENTFROG//EVENT//ICAL
BEGIN:VEVENT
UID:20260424T112350Z-7452281744332455404@eventfrog.at
DTSTAMP:20260424T112350Z
DTSTART:20260624T180000Z
DTEND:20260624T190000Z
SUMMARY:«Zwischen Vergnügen und Unberührtheit» – Rino Murakami
DESCRIPTION:Inspiriert von Hieronymus Boschs «Der Garten der Lüste» entwirft Rino Murakami einen sinnlichen Klangraum, worin Körper, Klang und Raum in Resonanz treten, bevor feste Bedeutungen entstehen.\n\nhttps://eventfrog.at/de/p/konzerte/weitere-musikrichtungen/zwischen-vergnuegen-und-unberuehrtheit-rino-murakami-7452281744332455404.html
LOCATION:Gare du Nord – Bahnhof für Neue Musik
GEO:47.567389;7.607131
URL:https://eventfrog.at/de/p/konzerte/weitere-musikrichtungen/zwischen-vergnuegen-und-unberuehrtheit-rino-murakami-7452281744332455404.html
END:VEVENT
END:VCALENDAR