BEGIN:VCALENDAR
VERSION:2.0
PRODID:EVENTFROG//EVENT//ICAL
BEGIN:VEVENT
UID:20260422T013219Z-7452272183315850338@eventfrog.at
DTSTAMP:20260422T013219Z
DTSTART:20260430T220000Z
DTEND:20260606T220000Z
SUMMARY:einfach komplex – vom konkreten Nutzen der Biodiversität
DESCRIPTION:Der Museumsgarten wird zum Skulpturenpark. 14 Figuren präsentieren neue wissenschaftliche Erkenntnisse zum Thema Artenvielfalt. Im Ensemble sind sie stärker – genauso wie die Biodiversität!\n\nhttps://eventfrog.at/de/p/kunst-ausstellungen/ausstellung/einfach-komplex-vom-konkreten-nutzen-der-biodiversitaet-7452272183315850338.html
LOCATION:Museumsquartier Bern
GEO:46.942444;7.449951
URL:https://eventfrog.at/de/p/kunst-ausstellungen/ausstellung/einfach-komplex-vom-konkreten-nutzen-der-biodiversitaet-7452272183315850338.html
END:VEVENT
END:VCALENDAR