BEGIN:VCALENDAR
VERSION:2.0
PRODID:EVENTFROG//EVENT//ICAL
BEGIN:VEVENT
UID:20260424T113032Z-7452271116981163687@eventfrog.at
DTSTAMP:20260424T113032Z
DTSTART:20260601T180000Z
DTEND:20260601T190000Z
SUMMARY:ATTACCA – «Automated» – Noah Rosen
DESCRIPTION:Diese Solo-Performance untersucht eine Reihe komplexer Fragen im Zusammenhang mit der Art und Weise, wie sich unser Leben mit der immer schnelleren technologischen Entwicklung verändert.\n\nhttps://eventfrog.at/de/p/konzerte/weitere-musikrichtungen/attacca-automated-noah-rosen-7452271116981163687.html
LOCATION:Gare du Nord – Bahnhof für Neue Musik
GEO:47.567389;7.607131
URL:https://eventfrog.at/de/p/konzerte/weitere-musikrichtungen/attacca-automated-noah-rosen-7452271116981163687.html
END:VEVENT
END:VCALENDAR