BEGIN:VCALENDAR
VERSION:2.0
PRODID:EVENTFROG//EVENT//ICAL
BEGIN:VEVENT
UID:20260424T112343Z-7452270130950627875@eventfrog.at
DTSTAMP:20260424T112343Z
DTSTART:20260601T150000Z
DTEND:20260601T160000Z
SUMMARY:ATTACCA – «Derivas Oníricas» Miguel Manríquez
DESCRIPTION:Eine Sammlung von Szenen entfaltet sich über Zeit und Raum hinweg – manchmal nacheinander, manchmal parallel, manchmal in bewusster Dissonanz überlappend.\n\nhttps://eventfrog.at/de/p/konzerte/weitere-musikrichtungen/attacca-derivas-oniricas-miguel-manriquez-7452270130950627875.html
LOCATION:Gare du Nord – Bahnhof für Neue Musik
GEO:47.567389;7.607131
URL:https://eventfrog.at/de/p/konzerte/weitere-musikrichtungen/attacca-derivas-oniricas-miguel-manriquez-7452270130950627875.html
END:VEVENT
END:VCALENDAR