BEGIN:VCALENDAR
VERSION:2.0
PRODID:EVENTFROG//EVENT//ICAL
BEGIN:VEVENT
UID:20260422T013220Z-7452268794221749141@eventfrog.at
DTSTAMP:20260422T013220Z
DTSTART:20260513T123000Z
DTEND:20260513T153000Z
SUMMARY:Spielrevier-Bauaktion für Jung und Alt
DESCRIPTION:Haben Sie Lust, mit dem Spielrevier zusammen neue Spielelemente im Museumsquartier zu bauen? Dann kommen Sie vorbei!\n\nDer Anlass findet im Museumsgarten (Zugang via Helvetiastrasse 6, 3005 Bern) statt\n\nhttps://eventfrog.at/de/p/kinderveranstaltungen/kurs/spielrevier-bauaktion-fuer-jung-und-alt-7452268794221749141.html
LOCATION:Museumsquartier Bern
GEO:46.942444;7.449951
URL:https://eventfrog.at/de/p/kinderveranstaltungen/kurs/spielrevier-bauaktion-fuer-jung-und-alt-7452268794221749141.html
END:VEVENT
END:VCALENDAR