BEGIN:VCALENDAR
VERSION:2.0
PRODID:EVENTFROG//EVENT//ICAL
BEGIN:VEVENT
UID:20260422T044115Z-7452266107543540787@eventfrog.at
DTSTAMP:20260422T044115Z
DTSTART:20260423T170000Z
DTEND:20260423T200000Z
SUMMARY:Versammlung Wahl neue Kirchgemeinderäte
DESCRIPTION:Am 23. April 2026 wählen die Stimmberechtigten den neuen Kirchgemeinderat der fusionierten Kirchgemeinden Thun.\n\nhttps://eventfrog.at/de/p/politik-gemeinde/gemeinde/versammlung-wahl-neue-kirchgemeinderaete-7452266107543540787.html
LOCATION:KKThun
GEO:46.743241;7.629527
URL:https://eventfrog.at/de/p/politik-gemeinde/gemeinde/versammlung-wahl-neue-kirchgemeinderaete-7452266107543540787.html
END:VEVENT
END:VCALENDAR