BEGIN:VCALENDAR
VERSION:2.0
PRODID:EVENTFROG//EVENT//ICAL
BEGIN:VEVENT
UID:20260422T113302Z-7452264493780867122@eventfrog.at
DTSTAMP:20260422T113302Z
DTSTART:20260517T120000Z
DTEND:20260517T150000Z
SUMMARY:Sonntagsapéro mit der Künstlerin Franziska Zumbach
DESCRIPTION:Die Künstlerin zeigt ihre neuen Arbeiten.\n\nhttps://eventfrog.at/de/p/kunst-ausstellungen/weitere-kunstveranstaltungen/sonntagsapero-mit-der-kuenstlerin-franziska-zumbach-7452264493780867122.html
LOCATION:Galerie Carla Renggli
GEO:47.165660;8.514703
URL:https://eventfrog.at/de/p/kunst-ausstellungen/weitere-kunstveranstaltungen/sonntagsapero-mit-der-kuenstlerin-franziska-zumbach-7452264493780867122.html
END:VEVENT
END:VCALENDAR