BEGIN:VCALENDAR
VERSION:2.0
PRODID:EVENTFROG//EVENT//ICAL
BEGIN:VEVENT
UID:20260422T154147Z-7452262904575825501@eventfrog.at
DTSTAMP:20260422T154147Z
DTSTART:20260513T183000Z
SUMMARY:Martin Schaffner Trio - Release-Konzert
DESCRIPTION:Akustische Musik mit Power: Martin Schaffner präsentiert zusammen mit Alexandra Lüthy und Larissa Scheding die Songs der neuen EP "Tell Me, Tell Me" und weitere Lieder aus dem Repertoire des Trios.\n\nhttps://eventfrog.at/de/p/konzerte/folk/martin-schaffner-trio-release-konzert-7452262904575825501.html
LOCATION:Galicia Musik Bar
GEO:47.349542;7.908778
URL:https://eventfrog.at/de/p/konzerte/folk/martin-schaffner-trio-release-konzert-7452262904575825501.html
END:VEVENT
END:VCALENDAR