BEGIN:VCALENDAR
VERSION:2.0
PRODID:EVENTFROG//EVENT//ICAL
BEGIN:VEVENT
UID:20260422T113258Z-7452259553670921022@eventfrog.at
DTSTAMP:20260422T113258Z
DTSTART:20260502T113000Z
SUMMARY:Harfenfest
DESCRIPTION:Am 2. Mai 2026 erklingen vielfältige Harfenklänge mit Duo «Lady Harp & Barballade» und Schülerkonzert in der Reformierten Kirche Zug.\n\nhttps://eventfrog.at/de/p/konzerte/weitere-musikrichtungen/harfenfest-7452259553670921022.html
LOCATION:City Kirche Zug
GEO:47.171811;8.513921
URL:https://eventfrog.at/de/p/konzerte/weitere-musikrichtungen/harfenfest-7452259553670921022.html
END:VEVENT
END:VCALENDAR