BEGIN:VCALENDAR
VERSION:2.0
PRODID:EVENTFROG//EVENT//ICAL
BEGIN:VEVENT
UID:20260422T112651Z-7452258700255827294@eventfrog.at
DTSTAMP:20260422T112651Z
DTSTART:20260425T150000Z
DTEND:20260425T170000Z
SUMMARY:Vernissage: Franziska Zumbach - Kerala Sari & Co.
DESCRIPTION:Franziska Zumbach zeigt ihre neuen Arbeiten.\n\nhttps://eventfrog.at/de/p/kunst-ausstellungen/vernissage/vernissage-franziska-zumbach-kerala-sari-co-7452258700255827294.html
LOCATION:Galerie Carla Renggli
GEO:47.165660;8.514703
URL:https://eventfrog.at/de/p/kunst-ausstellungen/vernissage/vernissage-franziska-zumbach-kerala-sari-co-7452258700255827294.html
END:VEVENT
END:VCALENDAR