BEGIN:VCALENDAR
VERSION:2.0
PRODID:EVENTFROG//EVENT//ICAL
BEGIN:VEVENT
UID:20260422T013221Z-7452258605338724703@eventfrog.at
DTSTAMP:20260422T013221Z
DTSTART:20260731T153000Z
DTEND:20260731T173000Z
SUMMARY:frei mit Innerdance - Transformation durch bewusste Trance
DESCRIPTION:Erfahre Transformation durch Musik und Energiearbeit. Du darfst Dich hinlegen und es geschehen lassen. Ich biete einen sicheren Raum und absichtslose Präsenz. Du bist Willkommen mit allem was ist!\n\nhttps://eventfrog.at/de/p/gesundheit-spiritualitaet/gesundheit-wohlbefinden/frei-mit-innerdance-transformation-durch-bewusste-trance-7452258605338724703.html
LOCATION:Qigong Zentrum Bern (zentral beim Bahnhof)
GEO:46.948013;7.441401
URL:https://eventfrog.at/de/p/gesundheit-spiritualitaet/gesundheit-wohlbefinden/frei-mit-innerdance-transformation-durch-bewusste-trance-7452258605338724703.html
END:VEVENT
END:VCALENDAR