BEGIN:VCALENDAR
VERSION:2.0
PRODID:EVENTFROG//EVENT//ICAL
BEGIN:VEVENT
UID:20260422T111425Z-7452257134455075533@eventfrog.at
DTSTAMP:20260422T111425Z
DTSTART:20260430T173000Z
DTEND:20260430T190000Z
SUMMARY:Lesung mit Pter Stamm
DESCRIPTION:Lesung von Peter Stamm und Gespräch zwischen dem Autor und dem Moderator Thomas Heimgartner. \n\nhttps://eventfrog.at/de/p/theater-buehne/lesung/lesung-mit-pter-stamm-7452257134455075533.html
LOCATION:Theater im Burgbachkeller
GEO:47.164246;8.514593
URL:https://eventfrog.at/de/p/theater-buehne/lesung/lesung-mit-pter-stamm-7452257134455075533.html
END:VEVENT
END:VCALENDAR