BEGIN:VCALENDAR
VERSION:2.0
PRODID:EVENTFROG//EVENT//ICAL
BEGIN:VEVENT
UID:20260422T113258Z-7452255635859602740@eventfrog.at
DTSTAMP:20260422T113258Z
DTSTART:20260822T050000Z
DTEND:20260824T030000Z
SUMMARY:EVZ Fancar - Dolomitencup 2026
DESCRIPTION:EVZ Fancar an alle Auswärtsspiele der 1. Mannschaft\n\nhttps://eventfrog.at/de/p/sport-fitness/eishockey/evz-fancar-dolomitencup-2026-7452255635859602740.html
LOCATION:Abfahrt beim Parkplatz Theilerplatz (hinter der B&B Sportsbar)
GEO:47.178627;8.513826
URL:https://eventfrog.at/de/p/sport-fitness/eishockey/evz-fancar-dolomitencup-2026-7452255635859602740.html
END:VEVENT
END:VCALENDAR