BEGIN:VCALENDAR
VERSION:2.0
PRODID:EVENTFROG//EVENT//ICAL
BEGIN:VEVENT
UID:20260422T115439Z-7452254089663016311@eventfrog.at
DTSTAMP:20260422T115439Z
DTSTART:20261017T180000Z
DTEND:20261017T200000Z
SUMMARY:Herbstkonzert des Jodlerklub Heimelig Baar
DESCRIPTION:Traditionelles Herbstkonzert mit grosser Tombola.\n\n\nhttps://eventfrog.at/de/p/konzerte/a-cappella-vocal/herbstkonzert-des-jodlerklub-heimelig-baar-7452254089663016311.html
LOCATION:Gemeindesaal Baar
GEO:47.195322;8.527517
URL:https://eventfrog.at/de/p/konzerte/a-cappella-vocal/herbstkonzert-des-jodlerklub-heimelig-baar-7452254089663016311.html
END:VEVENT
END:VCALENDAR