BEGIN:VCALENDAR
VERSION:2.0
PRODID:EVENTFROG//EVENT//ICAL
BEGIN:VEVENT
UID:20260422T013159Z-7452244339634245521@eventfrog.at
DTSTAMP:20260422T013159Z
DTSTART:20260501T160000Z
DTEND:20260501T180000Z
SUMMARY:Library of Artistic Print on Demand
DESCRIPTION:Andreas Bülhoff präsentiert eine Ausstellung zum post-digitalen Publishing mit Vernissage am 1. Mai 2026 um 18 Uhr.\n\nhttps://eventfrog.at/de/p/kunst-ausstellungen/vernissage/library-of-artistic-print-on-demand-7452244339634245521.html
LOCATION:Etkbooks Store
GEO:46.940540;7.436045
URL:https://eventfrog.at/de/p/kunst-ausstellungen/vernissage/library-of-artistic-print-on-demand-7452244339634245521.html
END:VEVENT
END:VCALENDAR