BEGIN:VCALENDAR
VERSION:2.0
PRODID:EVENTFROG//EVENT//ICAL
BEGIN:VEVENT
UID:20260422T013223Z-7452179473800159070@eventfrog.at
DTSTAMP:20260422T013223Z
DTSTART:20260609T170000Z
DTEND:20260609T190000Z
SUMMARY:OREGL RAUM
DESCRIPTION:Mit Münsterorganisten Christian Barthen eröffnet das BKO die Abendmusiken 2026 und bringt die seltene Kombination von Orgel und Orchester zum...\n\nhttps://eventfrog.at/de/p/klassik-opern/klassik/oregl-raum-7452179473800159070.html
LOCATION:Berner Münsterturm
GEO:46.947239;7.451531
URL:https://eventfrog.at/de/p/klassik-opern/klassik/oregl-raum-7452179473800159070.html
END:VEVENT
END:VCALENDAR