BEGIN:VCALENDAR
VERSION:2.0
PRODID:EVENTFROG//EVENT//ICAL
BEGIN:VEVENT
UID:20260422T013159Z-7452179473246510934@eventfrog.at
DTSTAMP:20260422T013159Z
DTSTART:20260520T180000Z
DTEND:20260520T200000Z
SUMMARY:Das Minutenpendel und andere Erfindungen
DESCRIPTION:Ueli Hofer verbindet Jazz-Grooves mit der Klangwelt des Kammerorchesters und schafft so Musik, die zugleich unkonventionell, zugänglich und tief...\n\nhttps://eventfrog.at/de/p/klassik-opern/klassik/das-minutenpendel-und-andere-erfindungen-7452179473246510934.html
LOCATION:Dampfzentrale Bern
GEO:46.940755;7.444159
URL:https://eventfrog.at/de/p/klassik-opern/klassik/das-minutenpendel-und-andere-erfindungen-7452179473246510934.html
END:VEVENT
END:VCALENDAR