BEGIN:VCALENDAR
VERSION:2.0
PRODID:EVENTFROG//EVENT//ICAL
BEGIN:VEVENT
UID:20260422T055818Z-7452110220879247687@eventfrog.at
DTSTAMP:20260422T055818Z
DTSTART:20260423T173000Z
DTEND:20260423T193000Z
SUMMARY:Blinder Fleck
DESCRIPTION:Blinder Fleck\n\nhttps://eventfrog.at/de/p/freizeit-ausfluege/blinder-fleck-7452110220879247687.html
LOCATION:Kino Roxy
GEO:47.565019;9.374795
URL:https://eventfrog.at/de/p/freizeit-ausfluege/blinder-fleck-7452110220879247687.html
END:VEVENT
END:VCALENDAR