BEGIN:VCALENDAR
VERSION:2.0
PRODID:EVENTFROG//EVENT//ICAL
BEGIN:VEVENT
UID:20260422T111818Z-7452094978874963542@eventfrog.at
DTSTAMP:20260422T111818Z
DTSTART:20260516T120000Z
DTEND:20260516T143000Z
SUMMARY:Scrapbooking Workshop
DESCRIPTION:Am 16.5.2026 zeigt ein Workshop in Baar, wie du Scrapbooks mit Material und Anleitung kreativ gestaltest.\n\nhttps://eventfrog.at/de/p/kurse-seminare/freizeit-hobby/scrapbooking-workshop-7452094978874963542.html
LOCATION:Kreativa Andrea Steinemann (bei sabrinavital TCM- & Naturheilpraxis)
GEO:47.191936;8.513798
URL:https://eventfrog.at/de/p/kurse-seminare/freizeit-hobby/scrapbooking-workshop-7452094978874963542.html
END:VEVENT
END:VCALENDAR