BEGIN:VCALENDAR
VERSION:2.0
PRODID:EVENTFROG//EVENT//ICAL
BEGIN:VEVENT
UID:20260422T113259Z-7452089766848265763@eventfrog.at
DTSTAMP:20260422T113259Z
DTSTART:20260506T163000Z
DTEND:20260506T190000Z
SUMMARY:Überraschungskarte zum Muttertag Workshop
DESCRIPTION:Am 6.5. kannst du in Baar in einem Workshop eine besondere Muttertagskarte kreativ gestalten.\n\nhttps://eventfrog.at/de/p/kunst-ausstellungen/weitere-kunstveranstaltungen/ueberraschungskarte-zum-muttertag-workshop-7452089766848265763.html
LOCATION:Kreativa Andrea Steinemann (bei sabrinavital TCM- & Naturheilpraxis)
GEO:47.191936;8.513798
URL:https://eventfrog.at/de/p/kunst-ausstellungen/weitere-kunstveranstaltungen/ueberraschungskarte-zum-muttertag-workshop-7452089766848265763.html
END:VEVENT
END:VCALENDAR