BEGIN:VCALENDAR
VERSION:2.0
PRODID:EVENTFROG//EVENT//ICAL
BEGIN:VEVENT
UID:20260422T014000Z-7452056177486086805@eventfrog.at
DTSTAMP:20260422T014000Z
DTSTART:20260515T210000Z
DTEND:20260516T020000Z
SUMMARY:LATINOVA - 1 Year Anniversary
DESCRIPTION:Latinova feiert ihr 1 Jahr Jubiläum im Le Ciel Club in Bern mit Candela und Traccia - eine Nacht voller Latin Vibes und Energie.\n\nhttps://eventfrog.at/de/p/partys/latin-brasil/latinova-1-year-anniversary-7452056177486086805.html
LOCATION:Le Ciel Club
GEO:46.951425;7.441316
URL:https://eventfrog.at/de/p/partys/latin-brasil/latinova-1-year-anniversary-7452056177486086805.html
END:VEVENT
END:VCALENDAR