BEGIN:VCALENDAR
VERSION:2.0
PRODID:EVENTFROG//EVENT//ICAL
BEGIN:VEVENT
UID:20260422T022841Z-7452045837469809721@eventfrog.at
DTSTAMP:20260422T022841Z
DTSTART:20270304T080000Z
DTEND:20270305T010000Z
SUMMARY:Noches de la Tribu
DESCRIPTION:Nanki Experience präsentiert „Noches de la Tribu“, ein Live-Erlebnis lateinamerikanischer Musik, das ab jetzt jeden Donnerstag als wöchentliches Ritual für Begegnung und Verbindung stattfindet.\n\nhttps://eventfrog.at/de/p/konzerte/folk/noches-de-la-tribu-7452045837469809721.html
LOCATION:Shuar Design
GEO:46.948658;7.454978
URL:https://eventfrog.at/de/p/konzerte/folk/noches-de-la-tribu-7452045837469809721.html
END:VEVENT
END:VCALENDAR