BEGIN:VCALENDAR
VERSION:2.0
PRODID:EVENTFROG//EVENT//ICAL
BEGIN:VEVENT
UID:20260422T013156Z-7452015694235850651@eventfrog.at
DTSTAMP:20260422T013156Z
DTSTART:20260506T180000Z
DTEND:20260506T200000Z
SUMMARY:Theatersport TAP vs. Les Impropulseurs, Mulhouse (FR)
DESCRIPTION:Les Impropulseurs aus Frankreich spielen erstmals im Gaskessel Bern turbulentes und charmantes Improvisationstheater voller Überraschungen.\n\nhttps://eventfrog.at/de/p/theater-buehne/theater/theatersport-tap-vs-les-impropulseurs-mulhouse-fr-7452015694235850651.html
LOCATION:Gaskessel Bern
GEO:46.938346;7.442402
URL:https://eventfrog.at/de/p/theater-buehne/theater/theatersport-tap-vs-les-impropulseurs-mulhouse-fr-7452015694235850651.html
END:VEVENT
END:VCALENDAR