BEGIN:VCALENDAR
VERSION:2.0
PRODID:EVENTFROG//EVENT//ICAL
BEGIN:VEVENT
UID:20260422T154151Z-7452010620772198877@eventfrog.at
DTSTAMP:20260422T154151Z
DTSTART:20260905T180000Z
DTEND:20260905T212300Z
SUMMARY:Gaudion
DESCRIPTION:Stubekonzert mit Gaudion (AU)\n\nhttps://eventfrog.at/de/p/konzerte/singer-songwriter/gaudion-7452010620772198877.html
LOCATION:Cielonoveno
GEO:47.349962;7.903703
URL:https://eventfrog.at/de/p/konzerte/singer-songwriter/gaudion-7452010620772198877.html
END:VEVENT
END:VCALENDAR