BEGIN:VCALENDAR
VERSION:2.0
PRODID:EVENTFROG//EVENT//ICAL
BEGIN:VEVENT
UID:20260422T013222Z-7452007817639163051@eventfrog.at
DTSTAMP:20260422T013222Z
DTSTART:20260521T170000Z
DTEND:20260521T200000Z
SUMMARY:Nachtflohmi im Stellwerk
DESCRIPTION:Nachtflohmi im Stellwerk\n\nhttps://eventfrog.at/de/p/maerkte/flohmarkt/nachtflohmi-im-stellwerk-7452007817639163051.html
LOCATION:Stellwerk
GEO:46.949621;7.438266
URL:https://eventfrog.at/de/p/maerkte/flohmarkt/nachtflohmi-im-stellwerk-7452007817639163051.html
END:VEVENT
END:VCALENDAR