BEGIN:VCALENDAR
VERSION:2.0
PRODID:EVENTFROG//EVENT//ICAL
BEGIN:VEVENT
UID:20260422T154146Z-7451909246118018890@eventfrog.at
DTSTAMP:20260422T154146Z
DTSTART:20260430T080000Z
DTEND:20260430T150000Z
SUMMARY:15 Jahre CULTIBO – Tag der offenen Tür
DESCRIPTION:Das CULTIBO in Olten feiert am 30. April von 10-17 Uhr 15 Jahre integratives Quartierleben mit Tag der offen Tür, Austausch und Kaffee.\n\nhttps://eventfrog.at/de/p/diverses/15-jahre-cultibo-tag-der-offenen-tuer-7451909246118018890.html
LOCATION:Begegnungszentrum Cultibo Olten
GEO:47.348558;7.911959
URL:https://eventfrog.at/de/p/diverses/15-jahre-cultibo-tag-der-offenen-tuer-7451909246118018890.html
END:VEVENT
END:VCALENDAR