BEGIN:VCALENDAR
VERSION:2.0
PRODID:EVENTFROG//EVENT//ICAL
BEGIN:VEVENT
UID:20260423T143734Z-7451888144482328368@eventfrog.at
DTSTAMP:20260423T143734Z
DTSTART:20260508T173000Z
DTEND:20260508T193000Z
SUMMARY:Swiss Armed Forces Central Band & Drum Corps
DESCRIPTION:Die Swiss Armed Forces Central Band & Drum Corps spielen am 8. Mai 2026 um 19.30 Uhr in der lintharena Näfels klassische und moderne Werke.\n\nhttps://eventfrog.at/de/p/konzerte/blasmusik/swiss-armed-forces-central-band-drum-corps-7451888144482328368.html
LOCATION:Lintharena
GEO:47.108094;9.065551
URL:https://eventfrog.at/de/p/konzerte/blasmusik/swiss-armed-forces-central-band-drum-corps-7451888144482328368.html
END:VEVENT
END:VCALENDAR