BEGIN:VCALENDAR
VERSION:2.0
PRODID:EVENTFROG//EVENT//ICAL
BEGIN:VEVENT
UID:20260423T143706Z-7451752726126425324@eventfrog.at
DTSTAMP:20260423T143706Z
DTSTART:20260523T180000Z
SUMMARY:Ant Viu
DESCRIPTION:Indie, Grunge.\n\nhttps://eventfrog.at/de/p/konzerte/ant-viu-7451752726126425324.html
LOCATION:Ufo Bar
GEO:47.038785;9.070255
URL:https://eventfrog.at/de/p/konzerte/ant-viu-7451752726126425324.html
END:VEVENT
END:VCALENDAR