BEGIN:VCALENDAR
VERSION:2.0
PRODID:EVENTFROG//EVENT//ICAL
BEGIN:VEVENT
UID:20260423T155334Z-7451390451821634477@eventfrog.at
DTSTAMP:20260423T155334Z
DTSTART:20270213T183000Z
DTEND:20270213T203000Z
SUMMARY:Lapsus: Ego
DESCRIPTION:Lapsus: Ego\n\nhttps://eventfrog.at/de/p/theater-buehne/lapsus-ego-7451390451821634477.html
LOCATION:Gemeindezentrum Schwanden
GEO:46.992640;9.068830
URL:https://eventfrog.at/de/p/theater-buehne/lapsus-ego-7451390451821634477.html
END:VEVENT
END:VCALENDAR