BEGIN:VCALENDAR
VERSION:2.0
PRODID:EVENTFROG//EVENT//ICAL
BEGIN:VEVENT
UID:20260422T013226Z-7451357601315487736@eventfrog.at
DTSTAMP:20260422T013226Z
DTSTART:20260423T163000Z
DTEND:20260423T183000Z
SUMMARY:Networking für berufstätige Frauen - Be Her Sip & Connect
DESCRIPTION:Networking-Event für berufstätige Frauen aller Branchen\n\nhttps://eventfrog.at/de/p/freizeit-ausfluege/stammtisch/networking-fuer-berufstaetige-frauen-be-her-sip-connect-7451357601315487736.html
LOCATION:Attika Rooftop Bar
GEO:46.948730;7.446322
URL:https://eventfrog.at/de/p/freizeit-ausfluege/stammtisch/networking-fuer-berufstaetige-frauen-be-her-sip-connect-7451357601315487736.html
END:VEVENT
END:VCALENDAR