BEGIN:VCALENDAR
VERSION:2.0
PRODID:EVENTFROG//EVENT//ICAL
BEGIN:VEVENT
UID:20260422T112652Z-7451247747934465549@eventfrog.at
DTSTAMP:20260422T112652Z
DTSTART:20260610T153000Z
DTEND:20260610T173000Z
SUMMARY:Die Erinnerung wachhalten – Begegnung mit Holocaust-Überlebe
DESCRIPTION:In der CityKirche Zug spricht Joop Caneel über seine Holocaust-Erfahrungen; Ausstellung zeigt letzte Überlebende der Schweiz.\n\nhttps://eventfrog.at/de/p/fuehrungen-vortraege/vortrag/die-erinnerung-wachhalten-begegnung-mit-holocaust-ueberlebe-7451247747934465549.html
LOCATION:City Kirche Zug
GEO:47.171811;8.513921
URL:https://eventfrog.at/de/p/fuehrungen-vortraege/vortrag/die-erinnerung-wachhalten-begegnung-mit-holocaust-ueberlebe-7451247747934465549.html
END:VEVENT
END:VCALENDAR