BEGIN:VCALENDAR
VERSION:2.0
PRODID:EVENTFROG//EVENT//ICAL
BEGIN:VEVENT
UID:20260422T112631Z-7451245256723400240@eventfrog.at
DTSTAMP:20260422T112631Z
DTSTART:20260519T153000Z
DTEND:20260519T173000Z
SUMMARY:Häusliche Gewalt - Alltag einer Forensic Nurse
DESCRIPTION:Andrea Goebel und Carmen Vonmont erklären, wie forensische Pflege Gewaltopfern hilft und warum frühzeitiges Handeln wichtig ist.\n\nhttps://eventfrog.at/de/p/fuehrungen-vortraege/vortrag/haeusliche-gewalt-alltag-einer-forensic-nurse-7451245256723400240.html
LOCATION:City Kirche Zug
GEO:47.171811;8.513921
URL:https://eventfrog.at/de/p/fuehrungen-vortraege/vortrag/haeusliche-gewalt-alltag-einer-forensic-nurse-7451245256723400240.html
END:VEVENT
END:VCALENDAR