BEGIN:VCALENDAR
VERSION:2.0
PRODID:EVENTFROG//EVENT//ICAL
BEGIN:VEVENT
UID:20260422T033953Z-7450835629301090236@eventfrog.at
DTSTAMP:20260422T033953Z
DTSTART:20260423T150000Z
DTEND:20260423T180000Z
SUMMARY:Museumsdonnerstag
DESCRIPTION:Das Museum Luzern bleibt einmal monatlich donnerstags bis 20 Uhr offen mit Führungen und reduzierten Eintrittspreisen ab 16 Uhr.\n\nhttps://eventfrog.at/de/p/kunst-ausstellungen/ausstellung/museumsdonnerstag-7450835629301090236.html
LOCATION:Museum Luzern
GEO:47.051683;8.301061
URL:https://eventfrog.at/de/p/kunst-ausstellungen/ausstellung/museumsdonnerstag-7450835629301090236.html
END:VEVENT
END:VCALENDAR