BEGIN:VCALENDAR
VERSION:2.0
PRODID:EVENTFROG//EVENT//ICAL
BEGIN:VEVENT
UID:20260422T045225Z-7449791500962027658@eventfrog.at
DTSTAMP:20260422T045225Z
DTSTART:20260423T170000Z
DTEND:20260423T183000Z
SUMMARY:Shared Reading - miteinander lesen
DESCRIPTION:Wir lassen uns von Worten leiten und tauchen gemeinsam lesend in Geschichten und Gedichte ein.\n\nhttps://eventfrog.at/de/p/diverses/shared-reading-miteinander-lesen-7449791500962027658.html
LOCATION:Bibliothek Hauptpost St.Gallen
GEO:47.422496;9.369936
URL:https://eventfrog.at/de/p/diverses/shared-reading-miteinander-lesen-7449791500962027658.html
END:VEVENT
END:VCALENDAR