BEGIN:VCALENDAR
VERSION:2.0
PRODID:EVENTFROG//EVENT//ICAL
BEGIN:VEVENT
UID:20260422T013153Z-7448428084141785715@eventfrog.at
DTSTAMP:20260422T013153Z
DTSTART:20260529T173000Z
DTEND:20260529T190000Z
SUMMARY:Klavierrezital - Ludwig van Beethoven Klaviersonaten
DESCRIPTION:Beethoven Klaviersonaten Op 10 no. 1 78 79 und 106 \n\nhttps://eventfrog.at/de/p/klassik-opern/klassik/klavierrezital-ludwig-van-beethoven-klaviersonaten-7448428084141785715.html
LOCATION:Französische Kirche Bern
GEO:46.948989;7.446510
URL:https://eventfrog.at/de/p/klassik-opern/klassik/klavierrezital-ludwig-van-beethoven-klaviersonaten-7448428084141785715.html
END:VEVENT
END:VCALENDAR