BEGIN:VCALENDAR
VERSION:2.0
PRODID:EVENTFROG//EVENT//ICAL
BEGIN:VEVENT
UID:20260422T013222Z-7447963483348416761@eventfrog.at
DTSTAMP:20260422T013222Z
DTSTART:20261019T110000Z
DTEND:20261019T150000Z
SUMMARY:Fachtagung “Blended Psychotherapie Best Practices”
DESCRIPTION:Expertentagung zur optimalen Nutzung digitaler Therapiebegleiter in der Blended Psychotherapie mit Workshops und Diskussion.\n\nhttps://eventfrog.at/de/p/kurse-seminare/berufliche-bildung/fachtagung-blended-psychotherapie-best-practices-7447963483348416761.html
LOCATION:Universität Bern, Kuppelraum (Hauptgebäude)
GEO:46.950372;7.438186
URL:https://eventfrog.at/de/p/kurse-seminare/berufliche-bildung/fachtagung-blended-psychotherapie-best-practices-7447963483348416761.html
END:VEVENT
END:VCALENDAR