BEGIN:VCALENDAR
VERSION:2.0
PRODID:EVENTFROG//EVENT//ICAL
BEGIN:VEVENT
UID:20260426T000006Z-7447576410288337301@eventfrog.at
DTSTAMP:20260426T000006Z
DTSTART:20260501T200000Z
DTEND:20260502T030000Z
SUMMARY:Friday bash
DESCRIPTION:MC QUEEN feiert am 1. Mai 2026 ab 22 Uhr im Cave Club Zürich seinen 50. Geburtstag mit DJ ENZOUT und Überraschungen.\n\nhttps://eventfrog.at/en/p/parties/dancehall/friday-bash-7447576410288337301.html
LOCATION:Langstrasse 81
GEO:47.377700;8.526365
URL:https://eventfrog.at/en/p/parties/dancehall/friday-bash-7447576410288337301.html
END:VEVENT
END:VCALENDAR